BEGIN:VCALENDAR
VERSION:2.0
PRODID:-//eventon.com NONSGML v1.0//EN
CALSCALE:GREGORIAN
METHOD:PUBLISH
BEGIN:VEVENT
UID:69e4ebb5cbe38
DTSTAMP:20260419T145029Z
DTSTART:20191119T153000Z
DTEND:20191119T195000Z
LOCATION:Hyatt Regency Baku 6 Izmir Street
SUMMARY:CLUB FRIENDS EVENT: Fourth Edition of the Italian Cuisine Week in the world
DESCRIPTION:Chef Maria Palma at Hyatt Regency Baku 19th of November Exquisi
 te fine &#8211; dining with Queen of Italian TV cooking shows and renowned 
 Chef. 105 azn per person.\nhttps://cbclub.az/az/events/club-friends-event-f
 ourth-edition-of-the-italian-cuisine-week-in-the-world/
URL:https://cbclub.az/az/events/club-friends-event-fourth-edition-of-the-italian-cuisine-week-in-the-world/
END:VEVENT
END:VCALENDAR