BEGIN:VCALENDAR
VERSION:2.0
PRODID:-//eventon.com NONSGML v1.0//EN
CALSCALE:GREGORIAN
METHOD:PUBLISH
BEGIN:VEVENT
UID:69e7d1836ca1b
DTSTAMP:20260421T193531Z
DTSTART:20230617T100000Z
DTEND:20230617T195000Z
LOCATION:
SUMMARY:Наше культурное наследие
DESCRIPTION:17 июня &#8220;Наше культурное наследи
 е&#8221; Время: 14:00 Место: Центр Творчества М
 ксуда Ибрагимбекова Оплата за регистрац
 ию: 10 AZN В этом месяце мы читаем  книги  М
 ксуда Ибрагимбекова &#8211; «Приходила жен
 ина в черном»\,  «И не было лучше брата»\,  
 «Пусть он останется с нами». Приглашаем д
 ля обсуждения этих произведений в Центр 
 ворчества Максуда Ибрагимбекова на[..]\nhtt
 ps://cbclub.az/az/events/nashe-kulturnoe-nasledie/
URL:https://cbclub.az/az/events/nashe-kulturnoe-nasledie/
END:VEVENT
END:VCALENDAR