BEGIN:VCALENDAR
VERSION:2.0
PRODID:-//eventon.com NONSGML v1.0//EN
CALSCALE:GREGORIAN
METHOD:PUBLISH
BEGIN:VEVENT
UID:69e9ffbaba831
DTSTAMP:20260423T111714Z
DTSTART:20231208T040000Z
DTEND:20231208T195000Z
LOCATION:
SUMMARY:HALL OF CHAMBER AND ORGAN MUSIC
DESCRIPTION:Чтобы купить пригласительные пожа
 луйста нажмите на этот линк\nhttps://cbclub.az/az/ev
 ents/hall-of-chamber-and-organ-music/
URL:https://cbclub.az/az/events/hall-of-chamber-and-organ-music/
END:VEVENT
END:VCALENDAR