 BEGIN:VCALENDAR
VERSION:2.0
PRODID:-//eventon.com NONSGML v1.0//EN
CALSCALE:GREGORIAN
METHOD:PUBLISH
BEGIN:VEVENT
UID:69e9fef9d5619
DTSTAMP:20260423T111401Z
DTSTART:20191020T150000Z
DTEND:20191020T195000Z
LOCATION:Beynəlxalq Muğam Mərkəzi  9 Neftçilər Prospekti
SUMMARY:CLUB FRIENDS EVENT: BEYNƏLXALQ MUĞAM MƏRKƏZİ
DESCRIPTION:CLUB FRIENDS EVENT: BEYNƏLXALQ MUĞAM MƏRKƏZİ\nhttps://cbcl
 ub.az/events/club-friends-event-beynelxalq-mugam-merkezi-14/
URL:https://cbclub.az/events/club-friends-event-beynelxalq-mugam-merkezi-14/
END:VEVENT
END:VCALENDAR