 BEGIN:VCALENDAR
VERSION:2.0
PRODID:-//eventon.com NONSGML v1.0//EN
CALSCALE:GREGORIAN
METHOD:PUBLISH
BEGIN:VEVENT
UID:69e9e24926367
DTSTAMP:20260423T091137Z
DTSTART:20230215T143000Z
DTEND:20230215T195000Z
LOCATION:
SUMMARY:Elmira AbbaslÄ±: KuklalarÄ±n sehrli missiyasÄ±.
DESCRIPTION:Elmira AbbaslÄ±:Â KuklalarÄ±n sehrli missiyasÄ±. Ä°Ã§É™ri ÅžÉ™h
 É™r rÉ™hbÉ™rliyi ilÉ™ É™mÉ™kdaÅŸlÄ±qda. Vaxt: 18:30 MÉ™kan: Ä°Ã§É™ri ÅžÉ™hÉ
 ™r\,  Tahir Salahovun Ev-Muzeyi\nhttps://cbclub.az/events/kuklalarin-missiy
 asi/
URL:https://cbclub.az/events/kuklalarin-missiyasi/
END:VEVENT
END:VCALENDAR