 BEGIN:VCALENDAR
VERSION:2.0
PRODID:-//eventon.com NONSGML v1.0//EN
CALSCALE:GREGORIAN
METHOD:PUBLISH
BEGIN:VEVENT
UID:69ea006bea116
DTSTAMP:20260423T112011Z
DTSTART:20250228T150000Z
DTEND:20250228T170000Z
LOCATION:
SUMMARY:Colors of Portugal: History\,  Taste\,  and Diplomacy
DESCRIPTION:We invite you to a unique event that will immerse you in Portug
 uese culture through three vibrant aspects: 🔍 History and Traditions A l
 ecturer will take you on a fascinating journey into the very heart of Portu
 gal\,  unveiling its rich history and cultural heritage. 🍰 Gastronomic D
 elights The director of[..]\nhttps://cbclub.az/events/colorsofportugal/
URL:https://cbclub.az/events/colorsofportugal/
END:VEVENT
END:VCALENDAR