BEGIN:VCALENDAR
VERSION:2.0
PRODID:-//eventon.com NONSGML v1.0//EN
CALSCALE:GREGORIAN
METHOD:PUBLISH
BEGIN:VEVENT
UID:69ecb815c9db5
DTSTAMP:20260425T124821Z
DTSTART:20221017T150000Z
DTEND:20221017T160000Z
LOCATION:
SUMMARY:Rus Evi Bakı'da keçiriləcək növbəti tədbirə dəvət edir!
DESCRIPTION:CultBaku Club 17 oktyabr saat 19:00-da Rus Evi Bakı&#8217;da k
 eçiriləcək növbəti tədbirə dəvət edir! Tədbir zamanı siz\,  adı
 nı sürpriz olaraq saxladığımız tanınmış rəssamla görüşə və o
 nun Fransadan xüsusilə klub üçün səyahət edən özünəməxsus\,  ma
 raqlı eləcə də qeyri-adi rəsm əsərləri ilə tanış olacaqsınız. 
 Tarix: 17 oktyabr Saat 19:00 Ünvan: Üzeyir Hacıbəyli[..]\nhttps://cbclu
 b.az/ru/events/rus-evi-bakida/
URL:https://cbclub.az/ru/events/rus-evi-bakida/
END:VEVENT
END:VCALENDAR