BEGIN:VCALENDAR
VERSION:2.0
PRODID:-//eventon.com NONSGML v1.0//EN
CALSCALE:GREGORIAN
METHOD:PUBLISH
BEGIN:VEVENT
UID:69ea36402fee0
DTSTAMP:20260423T150952Z
DTSTART:20221222T090000Z
DTEND:20221222T110000Z
LOCATION:
SUMMARY:New Year Mood with SENSUM BY AMAPOLA
DESCRIPTION:With the  Sensum team of professionals\,  we will create New 
 Year&#8217;s decor and festive table setting. Successful serving and beauti
 ful decor will help everyone to get a great Chritmas mood.   And the cher
 ry on the top is the creation of festive non-alcoholic cocktails based on B
 altika 0. Get in the holiday[..]\nhttps://cbclub.az/ru/events/christmas-moo
 d-with-sensum-by-amapola/
URL:https://cbclub.az/ru/events/christmas-mood-with-sensum-by-amapola/
END:VEVENT
END:VCALENDAR