BEGIN:VCALENDAR
VERSION:2.0
PRODID:-//eventon.com NONSGML v1.0//EN
CALSCALE:GREGORIAN
METHOD:PUBLISH
BEGIN:VEVENT
UID:69e9feea0ee78
DTSTAMP:20260423T111346Z
DTSTART:20230121T100000Z
DTEND:20230121T195000Z
LOCATION:
SUMMARY:Ателье Чтений на Французском
DESCRIPTION:21 января Для детей 5 – 10 лет. Ателье
  Чтений на Французском. Время: 14:00 Место: S
 tudyHub Baku (Белый город\,  Yaşıl Ada 2\,  Təməl Park) Ст
 имость: 20 АЗН – 1 ребенок 15 АЗН – за втор
 го ребенка\,  если детей двое.\nhttps://cbclub.az/ru
 /events/atelier-readings-in-french/
URL:https://cbclub.az/ru/events/atelier-readings-in-french/
END:VEVENT
END:VCALENDAR