BEGIN:VCALENDAR
VERSION:2.0
PRODID:-//eventon.com NONSGML v1.0//EN
CALSCALE:GREGORIAN
METHOD:PUBLISH
BEGIN:VEVENT
UID:69e82a94ab557
DTSTAMP:20260422T015532Z
DTSTART:20231216T100000Z
DTEND:20231216T120000Z
LOCATION:
SUMMARY:Немного о пуантилизме: рисуем точками
DESCRIPTION:16 декабря: МирАзер Абдулла 14:00-16:00 «
 Немного о пуантилизме: рисуем точками» С
 вместный Рисунок Членов клуба и художни
 а\nhttps://cbclub.az/ru/events/nemnogo-o-puantilizme-risuem-tochkami/
URL:https://cbclub.az/ru/events/nemnogo-o-puantilizme-risuem-tochkami/
END:VEVENT
END:VCALENDAR