BEGIN:VCALENDAR
VERSION:2.0
PRODID:-//eventon.com NONSGML v1.0//EN
CALSCALE:GREGORIAN
METHOD:PUBLISH
BEGIN:VEVENT
UID:69ed14a84a6da
DTSTAMP:20260425T192320Z
DTSTART:20240508T043000Z
DTEND:20240508T080000Z
LOCATION:
SUMMARY:Yoga & Syrnyki Day at Hyatt Regency Baku
DESCRIPTION:World Class Fitness Center &amp; Cult Baku Club proudly present
 : Yoga &amp; Syrnyki Day at Hyatt Regency Baku 8.30 &#8211; 9.30 Yoga class
  with Lala (World Class) in the outside area 9.30-10.30 short break\,  wate
 r consumption and change of clothes 10.30-11.30 &#8211; Syrnyki &#8211; pro
 fessional master class by Hyatt Chefs[..]\nhttps://cbclub.az/ru/events/yoga
 -syrnyki-day-at-hyatt-regency-baku/
URL:https://cbclub.az/ru/events/yoga-syrnyki-day-at-hyatt-regency-baku/
END:VEVENT
END:VCALENDAR